BEGIN:VCALENDAR
VERSION:2.0
PRODID:-//Plymouth Scouts - ECPv6.15.20//NONSGML v1.0//EN
CALSCALE:GREGORIAN
METHOD:PUBLISH
X-WR-CALNAME:Plymouth Scouts
X-ORIGINAL-URL:https://plymouthscouts.org.uk
X-WR-CALDESC:Events for Plymouth Scouts
REFRESH-INTERVAL;VALUE=DURATION:PT1H
X-Robots-Tag:noindex
X-PUBLISHED-TTL:PT1H
BEGIN:VTIMEZONE
TZID:UTC
BEGIN:STANDARD
TZOFFSETFROM:+0000
TZOFFSETTO:+0000
TZNAME:UTC
DTSTART:20240101T000000
END:STANDARD
END:VTIMEZONE
BEGIN:VEVENT
DTSTART;TZID=UTC:20250305T190000
DTEND;TZID=UTC:20250305T210000
DTSTAMP:20260421T131029
CREATED:20250207T202617Z
LAST-MODIFIED:20250212T162404Z
UID:1352-1741201200-1741208400@plymouthscouts.org.uk
SUMMARY:Group Lead Volunteer Meeting - 5th March 2025
DESCRIPTION:Group Lead Volunteers are invited to meet with the new District Lead Volunteer Team at Blindman’s Wood to discuss where Plymouth District are heading\, upcoming events\, and welcome discussions from groups across the city. If you can not attend as GLV\, please send someone else in your place.
URL:https://plymouthscouts.org.uk/event/group-lead-volunteer-meeting/
LOCATION:Blindman’s Wood
CATEGORIES:Meeting,Volunteer Events
ATTACH;FMTTYPE=image/png:https://plymouthscouts.org.uk/wp-content/uploads/2024/12/4-1.png
END:VEVENT
END:VCALENDAR