BEGIN:VCALENDAR
VERSION:2.0
PRODID:-//Plymouth Scouts - ECPv6.15.20//NONSGML v1.0//EN
CALSCALE:GREGORIAN
METHOD:PUBLISH
X-WR-CALNAME:Plymouth Scouts
X-ORIGINAL-URL:https://plymouthscouts.org.uk
X-WR-CALDESC:Events for Plymouth Scouts
REFRESH-INTERVAL;VALUE=DURATION:PT1H
X-Robots-Tag:noindex
X-PUBLISHED-TTL:PT1H
BEGIN:VTIMEZONE
TZID:UTC
BEGIN:STANDARD
TZOFFSETFROM:+0000
TZOFFSETTO:+0000
TZNAME:UTC
DTSTART:20250101T000000
END:STANDARD
END:VTIMEZONE
BEGIN:VEVENT
DTSTART;TZID=UTC:20260510T150000
DTEND;TZID=UTC:20260510T170000
DTSTAMP:20260424T113147
CREATED:20260226T203841Z
LAST-MODIFIED:20260226T203841Z
UID:1760-1778425200-1778432400@plymouthscouts.org.uk
SUMMARY:Chess Club - May 2026
DESCRIPTION:Date: Sunday\, 10 May 2026Time: 3:00 pm – 5:00 pmLocation: Blindman’s Wood Scout Centre\, PL3 5TBCost: £2 per personExtras: Bring your own snacks or money for the tuck shop \nJoin the Plymouth Scouts Chess Club for an afternoon of friendly competition\, learning\, and fun! Whether you’re a complete beginner or a budding grandmaster\, this session is a great way to develop your chess skills in a welcoming environment. \nOur sessions are suitable for Cubs\, Scouts\, and Explorers\, and talented Squirrels & Beavers are welcome to join on merit. Parents and volunteers with chess experience are warmly invited to share their knowledge and help make every move count! \nCome along\, challenge your friends\, and enjoy an engaging\, social chess experience in a safe and supportive space.
URL:https://plymouthscouts.org.uk/event/chess-club-may-2026/
LOCATION:Blindman’s Wood
CATEGORIES:Member events
ATTACH;FMTTYPE=image/png:https://plymouthscouts.org.uk/wp-content/uploads/2026/02/Chess-Club.png
END:VEVENT
BEGIN:VEVENT
DTSTART;TZID=UTC:20260517T103000
DTEND;TZID=UTC:20260517T170000
DTSTAMP:20260424T113147
CREATED:20260226T210109Z
LAST-MODIFIED:20260226T210109Z
UID:1777-1779013800-1779037200@plymouthscouts.org.uk
SUMMARY:Tug-of-War 2026
DESCRIPTION:It’s back! One of Plymouth Scouts most iconic events – The Tug of War! \nHosted by  31st Plymouth Scout Group in Ernesettle\, the whole of Plymouth’s Scouting young people and their leaders and families are invited for an exceptionally fun day out. \nRegistration: 10:30am\nFirst Pull: 11am (Squirrels welcome all day\, but not pulling until 1pm)  \n£1 per person entry fee to pull \nRefreshments on sale. \n 
URL:https://plymouthscouts.org.uk/event/tug-of-war-2026/
LOCATION:Ernesettle Scout Hut\, Rochford Crescent\, Plymouth\, PL5 2PY
CATEGORIES:Member events
ATTACH;FMTTYPE=image/png:https://plymouthscouts.org.uk/wp-content/uploads/2026/02/Tug-of-War-2026.png
END:VEVENT
BEGIN:VEVENT
DTSTART;TZID=UTC:20260614T093000
DTEND;TZID=UTC:20260614T170000
DTSTAMP:20260424T113147
CREATED:20260226T211423Z
LAST-MODIFIED:20260320T000518Z
UID:1780-1781429400-1781456400@plymouthscouts.org.uk
SUMMARY:Field Gun Run
DESCRIPTION:Cubs Field Gun Run – 30th Anniversary\nCelebrate 30 years of the Cubs Field Gun Run this June with an action-packed morning of teamwork\, speed\, and fun! \nDate: Sunday\, 14 June 2026Location: Blindman’s Wood Scout CentreTimes: \n\n\nLeaders arrive: 9:30 am \n\n\nCubs arrive: 10:00 am \n\n\nWho Can Join: \n\n\nCubs only – this special event celebrates the 30th anniversary of Cubs participating in the Field Gun Run. \n\n\nTeams must have a minimum of 8 Cubs. \n\nIf you’re unable to bring a full team of 8 Cubs\, or you have more than 8 but not enough for multiple full teams\, please still come along with what you have. We’ll combine groups where needed so every young person gets the chance to take part \n\nActivities & Fundraising: \n\n\nTeams can also run a fundraising base (no food bases – refreshments will be run by the 59th and 9th/21st groups). \n\n\nCost: £2 per participant \nRewards: \n\n\nEach participant receives a commemorative badge \n\n\nMedals will be awarded to the winning teams \n\n\nBooking:Spaces are limited\, so book your team by emailing glv@59seatonscouts.org.uk. \nCome along for a morning of friendly competition\, teamwork\, and Cubs spirit\, and be part of a milestone celebration for this iconic event!
URL:https://plymouthscouts.org.uk/event/field-gun-run/
LOCATION:Blindman’s Wood
CATEGORIES:Member events
ATTACH;FMTTYPE=image/png:https://plymouthscouts.org.uk/wp-content/uploads/2026/02/field-gun.png
END:VEVENT
BEGIN:VEVENT
DTSTART;TZID=UTC:20260712T150000
DTEND;TZID=UTC:20260712T170000
DTSTAMP:20260424T113147
CREATED:20260226T204026Z
LAST-MODIFIED:20260226T204026Z
UID:1763-1783868400-1783875600@plymouthscouts.org.uk
SUMMARY:Chess Club - July 2026
DESCRIPTION:Date: Sunday\, 12 July 2026Time: 3:00 pm – 5:00 pmLocation: Blindman’s Wood Scout Centre\, PL3 5TBCost: £2 per personExtras: Bring your own snacks or money for the tuck shop \nJoin the Plymouth Scouts Chess Club for an afternoon of friendly competition\, learning\, and fun! Whether you’re a complete beginner or a budding grandmaster\, this session is a great way to develop your chess skills in a welcoming environment. \nOur sessions are suitable for Cubs\, Scouts\, and Explorers\, and talented Squirrels & Beavers are welcome to join on merit. Parents and volunteers with chess experience are warmly invited to share their knowledge and help make every move count! \nCome along\, challenge your friends\, and enjoy an engaging\, social chess experience in a safe and supportive space.
URL:https://plymouthscouts.org.uk/event/chess-club-july-2026/
LOCATION:Blindman’s Wood
CATEGORIES:Member events
ATTACH;FMTTYPE=image/png:https://plymouthscouts.org.uk/wp-content/uploads/2026/02/Chess-Club.png
END:VEVENT
BEGIN:VEVENT
DTSTART;TZID=UTC:20260809T150000
DTEND;TZID=UTC:20260809T170000
DTSTAMP:20260424T113147
CREATED:20260226T204152Z
LAST-MODIFIED:20260226T204152Z
UID:1765-1786287600-1786294800@plymouthscouts.org.uk
SUMMARY:Chess Club - August 2026
DESCRIPTION:Date: Sunday\, 9 August 2026Time: 3:00 pm – 5:00 pmLocation: Blindman’s Wood Scout Centre\, PL3 5TBCost: £2 per personExtras: Bring your own snacks or money for the tuck shop \nJoin the Plymouth Scouts Chess Club for an afternoon of friendly competition\, learning\, and fun! Whether you’re a complete beginner or a budding grandmaster\, this session is a great way to develop your chess skills in a welcoming environment. \nOur sessions are suitable for Cubs\, Scouts\, and Explorers\, and talented Squirrels & Beavers are welcome to join on merit. Parents and volunteers with chess experience are warmly invited to share their knowledge and help make every move count! \nCome along\, challenge your friends\, and enjoy an engaging\, social chess experience in a safe and supportive space.
URL:https://plymouthscouts.org.uk/event/chess-club-august-2026/
LOCATION:Blindman’s Wood
CATEGORIES:Member events
ATTACH;FMTTYPE=image/png:https://plymouthscouts.org.uk/wp-content/uploads/2026/02/Chess-Club.png
END:VEVENT
BEGIN:VEVENT
DTSTART;TZID=UTC:20260913T150000
DTEND;TZID=UTC:20260913T170000
DTSTAMP:20260424T113147
CREATED:20260226T204320Z
LAST-MODIFIED:20260226T204320Z
UID:1767-1789311600-1789318800@plymouthscouts.org.uk
SUMMARY:Chess Club - September 2026
DESCRIPTION:Date: Sunday\, 13 September 2026Time: 3:00 pm – 5:00 pmLocation: Blindman’s Wood Scout Centre\, PL3 5TBCost: £2 per personExtras: Bring your own snacks or money for the tuck shop \nJoin the Plymouth Scouts Chess Club for an afternoon of friendly competition\, learning\, and fun! Whether you’re a complete beginner or a budding grandmaster\, this session is a great way to develop your chess skills in a welcoming environment. \nOur sessions are suitable for Cubs\, Scouts\, and Explorers\, and talented Squirrels & Beavers are welcome to join on merit. Parents and volunteers with chess experience are warmly invited to share their knowledge and help make every move count! \nCome along\, challenge your friends\, and enjoy an engaging\, social chess experience in a safe and supportive space.
URL:https://plymouthscouts.org.uk/event/chess-club-september-2026/
LOCATION:Blindman’s Wood
CATEGORIES:Member events
ATTACH;FMTTYPE=image/png:https://plymouthscouts.org.uk/wp-content/uploads/2026/02/Chess-Club.png
END:VEVENT
BEGIN:VEVENT
DTSTART;TZID=UTC:20261011T130000
DTEND;TZID=UTC:20261011T163000
DTSTAMP:20260424T113147
CREATED:20260226T204855Z
LAST-MODIFIED:20260226T204855Z
UID:1769-1791723600-1791736200@plymouthscouts.org.uk
SUMMARY:Chess Club - Autumn Tournament
DESCRIPTION:Date: Sunday\, 11 October 2026Time: 1:00 pm – 4:30 pmLocation: Blindman’s Wood Scout Centre\, PL3 5TBCost: £4 per personExtras: Bring your own snacks or money for the tuck shop \nThe Autumn District Chess Tournament this October is open to Cubs\, Scouts\, and Explorers\, each competing in their own age divisions: \n\n\nCubs: 8–10½ years \n\n\nScouts: 10½–14 years \n\n\nExplorers: 14–18 years \n\n\nDistrict trophies will be awarded in each division\, with the winners’ names engraved for 2026. The tournament is fast-paced and fun\, giving all participants the chance to play multiple games in a friendly\, supportive environment. \nHelpers are warmly welcome to assist as round supervisors or scorekeepers\, making it a great opportunity to get involved and support the event. \nFrom beginners to confident players\, everyone will have the chance to test their skills\, enjoy lively chess action\, and be part of a fantastic Scouts community experience.
URL:https://plymouthscouts.org.uk/event/chess-club-autumn-tournament/
LOCATION:Blindman’s Wood
CATEGORIES:Member events
ATTACH;FMTTYPE=image/png:https://plymouthscouts.org.uk/wp-content/uploads/2026/02/chess-club-tournament-autumn.png
END:VEVENT
END:VCALENDAR